BEGIN:VCALENDAR
VERSION:2.0
PRODID:-//CannaWorldFair.com - ECPv6.15.17//NONSGML v1.0//EN
CALSCALE:GREGORIAN
METHOD:PUBLISH
X-ORIGINAL-URL:https://www.cannaworldfair.com
X-WR-CALDESC:Events for CannaWorldFair.com
REFRESH-INTERVAL;VALUE=DURATION:PT1H
X-Robots-Tag:noindex
X-PUBLISHED-TTL:PT1H
BEGIN:VTIMEZONE
TZID:UTC
BEGIN:STANDARD
TZOFFSETFROM:+0000
TZOFFSETTO:+0000
TZNAME:UTC
DTSTART:20250101T000000
END:STANDARD
END:VTIMEZONE
BEGIN:VEVENT
DTSTART;TZID=UTC:20261107T100000
DTEND;TZID=UTC:20261107T180000
DTSTAMP:20260423T055815
CREATED:20260420T194232Z
LAST-MODIFIED:20260420T201230Z
UID:9712-1794045600-1794074400@www.cannaworldfair.com
SUMMARY:Saturday - Morgantown PA
DESCRIPTION:Saturday – Morgantown PANovember 7\, 2026 @ 10:00 am-6:00 pmSunday – Morgantown PANovember 8\, 2026 @ 10:00 am-6:00 pmHotels HOLIDAY INN Morgantown – Reading Area \nCall: (610) 286-3000\n6170 Morgantown Rd\nMorgantown\, PA 19543
URL:https://www.cannaworldfair.com/event/saturday-morgantown-pa-5/
LOCATION:Morgantown Event Center\, 6180 Morgantown Road\, Morgantown\, PA\, United States
CATEGORIES:Morgantown 11/7/26 – 11/8/26
ATTACH;FMTTYPE=image/png:https://www.cannaworldfair.com/wp-content/uploads/2023/07/Weed-and-stones.png
END:VEVENT
BEGIN:VEVENT
DTSTART;TZID=UTC:20261108T100000
DTEND;TZID=UTC:20261108T180000
DTSTAMP:20260423T055815
CREATED:20260420T194713Z
LAST-MODIFIED:20260420T194900Z
UID:9715-1794132000-1794160800@www.cannaworldfair.com
SUMMARY:Sunday - Morgantown PA
DESCRIPTION:Saturday – Morgantown PANovember 7\, 2026 @ 10:00 am-6:00 pmSunday – Morgantown PANovember 8\, 2026 @ 10:00 am-6:00 pmHotels HOLIDAY INN Morgantown – Reading Area \nCall: (610) 286-3000\n6170 Morgantown Rd\nMorgantown\, PA 19543
URL:https://www.cannaworldfair.com/event/sunday-morgantown-pa-5/
LOCATION:Morgantown Event Center\, 6180 Morgantown Road\, Morgantown\, PA\, United States
CATEGORIES:Morgantown 11/7/26 – 11/8/26
ATTACH;FMTTYPE=image/png:https://www.cannaworldfair.com/wp-content/uploads/2023/07/Weed-and-stones.png
END:VEVENT
END:VCALENDAR